BEGIN:VCALENDAR
VERSION:2.0
PRODID:spatie/icalendar-generator
DESCRIPTION:Veranstaltungen von DB - Die Brut
X-WR-CALDESC:Veranstaltungen von DB - Die Brut
REFRESH-INTERVAL;VALUE=DURATION:PT1440M
X-PUBLISHED-TTL:PT1440M
BEGIN:VTIMEZONE
TZID:Etc/GMT+0
BEGIN:STANDARD
DTSTART:20220806T160000Z
TZOFFSETFROM:+0000
TZOFFSETTO:+0000
END:STANDARD
END:VTIMEZONE
BEGIN:VTIMEZONE
TZID:UTC
BEGIN:STANDARD
DTSTART:20250724T102735Z
TZOFFSETFROM:+0000
TZOFFSETTO:+0000
END:STANDARD
END:VTIMEZONE
BEGIN:VEVENT
UID:6-3
DTSTAMP:20260420T102735Z
SUMMARY:Public Viewing 0punkt
LOCATION:AAU Klagenfurt Universitätsstraße 65/67  Klagenfurt Carinthia 90
 20
ORGANIZER;CN=admin:MAILTO:tieace3@hotmail.com
DTSTART;TZID=Etc/GMT+0:20230503T160000
DTEND;TZID=Etc/GMT+0:20230503T180000
X-ALT-DESC;FMTTYPE=TEXT/HTML:
CATEGORIES:General
URL;VALUE=URI:https://die-brut.at/mc-events/public-viewing-0punkt/
METHOD:PUBLISH
END:VEVENT
END:VCALENDAR